BEGIN:VCALENDAR
VERSION:2.0
PRODID:-//wp-events-plugin.com//7.2.3.1//EN
TZID:Europe/Paris
X-WR-TIMEZONE:Europe/Paris
BEGIN:VEVENT
UID:142@seniorsdugolfdurochat.fr
DTSTART;TZID=Europe/Paris:20200924T093000
DTEND;TZID=Europe/Paris:20200924T180000
DTSTAMP:20200916T190849Z
URL:https://seniorsdugolfdurochat.fr/rencontres-et-competitions/une-sortie
 -au-golf-de-la-manchette/
SUMMARY:Une sortie au Golf de la Manchette
DESCRIPTION:Notre green keeper carotte les greens du Rochat le 24 septembre
  2020\n\nNous vous proposons une sortie au golf de la Manchette ( Compéti
 tion amicale ou Compétition ludique ) au choix .\n\nGreen fees au tarif s
 pecial pour les membres du Rochat\n\nRepas preparé par Serge et Marie 20
 € vin \, café inclus\n\nVoiturette disponible tarif ???\n\nS'inscrire a
 vant dimanche soir 20 septembre pour l'organisation du repas\n\n&nbsp\;
CATEGORIES:Partie amicale
LOCATION:Golf de la Manchette\, 396\, promenade de la Manchette\, Prévessi
 n-Moëns\, 01280\, France
GEO:46.2743366;6.066628300000048
X-APPLE-STRUCTURED-LOCATION;VALUE=URI;X-ADDRESS=396\, promenade de la Manch
 ette\, Prévessin-Moëns\, 01280\, France;X-APPLE-RADIUS=100;X-TITLE=Golf 
 de la Manchette:geo:46.2743366,6.066628300000048
END:VEVENT
BEGIN:VTIMEZONE
TZID:Europe/Paris
X-LIC-LOCATION:Europe/Paris
BEGIN:DAYLIGHT
DTSTART:20200329T030000
TZOFFSETFROM:+0100
TZOFFSETTO:+0200
TZNAME:CEST
END:DAYLIGHT
END:VTIMEZONE
END:VCALENDAR