BEGIN:VCALENDAR
VERSION:2.0
PRODID:-//wp-events-plugin.com//7.2.3.1//EN
TZID:Europe/Paris
X-WR-TIMEZONE:Europe/Paris
BEGIN:VEVENT
UID:405@seniorsdugolfdurochat.fr
DTSTART;TZID=Europe/Paris:20261005T080000
DTEND;TZID=Europe/Paris:20261009T170000
DTSTAMP:20260202T133755Z
URL:https://seniorsdugolfdurochat.fr/rencontres-et-competitions/sortie-en-
 couple-ou-en-celibataire-3/
SUMMARY:Sortie en couple ou en célibataire
DESCRIPTION:\n\n\n\nAu programme :\n\nLundi 5 octobre : arrivée au Mas de 
 l'Oulivié - apéritif et repas planchette\nMardi 6 octobre : parcours au 
 Domaine de Manville - repas du soir au Mas de l'Oulivié\nMercredi 7 octob
 re : parcours à Servannes ou si cela est possible au golf de Saumane (env
 . 1h00 de déplacement) - repas du soir à déterminer\nJeudi 8 octobre : 
 parcours à Servannes - repas du soir à déterminer\nVendredi 9 octobre :
  retour dans nos foyers\n\nLe coût approximatif (hors repas des 7 et 8 oc
 tobre et apéros sur la place de Maussane) est de EUR 1900.- pour les coup
 les et EUR 1\,450.- pour les solitaires qui ne partagent pas leur chambre.
 \n\n\n\n&nbsp\;\n\nDestination\n\n\n\n&nbsp\;\n\n&nbsp\;\n\nOrganisateur\n
 \n
CATEGORIES:Sorties
LOCATION:Mas de l'Oulivié\, Les Arcoules\, Les Baux de Provence\, 13520\, 
 France
GEO:43.7306455;4.778520299999968
X-APPLE-STRUCTURED-LOCATION;VALUE=URI;X-ADDRESS=Les Arcoules\, Les Baux de 
 Provence\, 13520\, France;X-APPLE-RADIUS=100;X-TITLE=Mas de l'Oulivié:geo
 :43.7306455,4.778520299999968
END:VEVENT
BEGIN:VTIMEZONE
TZID:Europe/Paris
X-LIC-LOCATION:Europe/Paris
BEGIN:DAYLIGHT
DTSTART:20260329T030000
TZOFFSETFROM:+0100
TZOFFSETTO:+0200
TZNAME:CEST
END:DAYLIGHT
END:VTIMEZONE
END:VCALENDAR