BEGIN:VCALENDAR
VERSION:2.0
PRODID:-//wp-events-plugin.com//7.2.3.1//EN
TZID:Europe/Paris
X-WR-TIMEZONE:Europe/Paris
BEGIN:VEVENT
UID:356@seniorsdugolfdurochat.fr
DTSTART;TZID=Europe/Paris:20250326T080000
DTEND;TZID=Europe/Paris:20250326T170000
DTSTAMP:20250307T130840Z
URL:https://seniorsdugolfdurochat.fr/rencontres-et-competitions/rencontre-
 avec-les-seniors-du-golf-de-la-manchette-2/
SUMMARY:Rencontre avec les Seniors du Golf de La Manchette
DESCRIPTION:\n\n\nPour notre rencontre du 26\, j’ai prévu 4BMB départ e
 n shotgun à 9:00 et café/croissants dès 8:00. Repas sous la tente aprè
 s nos joutes.\nIl vous en coûtera 50 euros p/p..\nÁ tout bientôt \n\n\
 n\n\n\n\nAmitiés \nJean-Claude Ebner capitaine des Seniors de la Manchett
 e\n\n\n  \n\n\n\n\n\n\n\n\n\n\n\n                          
                                                  
                                          \n\n\n\n\n\n\
 n\n\n\n\n\n\n\n\n\n
CATEGORIES:Echange inter-sections
LOCATION:Golf de la Manchette\, 396\, promenade de la Manchette\, Prévessi
 n-Moëns\, 01280\, France
GEO:46.2743366;6.066628300000048
X-APPLE-STRUCTURED-LOCATION;VALUE=URI;X-ADDRESS=396\, promenade de la Manch
 ette\, Prévessin-Moëns\, 01280\, France;X-APPLE-RADIUS=100;X-TITLE=Golf 
 de la Manchette:geo:46.2743366,6.066628300000048
END:VEVENT
BEGIN:VTIMEZONE
TZID:Europe/Paris
X-LIC-LOCATION:Europe/Paris
BEGIN:STANDARD
DTSTART:20241027T020000
TZOFFSETFROM:+0200
TZOFFSETTO:+0100
TZNAME:CET
END:STANDARD
END:VTIMEZONE
END:VCALENDAR