BEGIN:VCALENDAR
VERSION:2.0
PRODID:-//wp-events-plugin.com//7.2.3.1//EN
TZID:Europe/Paris
X-WR-TIMEZONE:Europe/Paris
BEGIN:VEVENT
UID:298@seniorsdugolfdurochat.fr
DTSTART;TZID=Europe/Paris:20240304T000000
DTEND;TZID=Europe/Paris:20240304T000000
DTSTAMP:20240304T142757Z
URL:https://seniorsdugolfdurochat.fr/rencontres-et-competitions/rangez-vos
 -skis-et-ou-vos-raquettes-sortez-vos-clubs/
SUMMARY:Rangez vos skis et ou vos raquettes \, sortez vos clubs
DESCRIPTION:Découvrez cette nouvelle avec juste un clic\n\nUne nouvelle ta
 nt attendue
LOCATION:Golf du Rochat\, 1305 route du Noirmont\, Les Rousses\, 39220\, Fr
 ance
GEO:46.4873771;6.077280900000005
X-APPLE-STRUCTURED-LOCATION;VALUE=URI;X-ADDRESS=1305 route du Noirmont\, Le
 s Rousses\, 39220\, France;X-APPLE-RADIUS=100;X-TITLE=Golf du Rochat:geo:4
 6.4873771,6.077280900000005
END:VEVENT
BEGIN:VTIMEZONE
TZID:Europe/Paris
X-LIC-LOCATION:Europe/Paris
BEGIN:STANDARD
DTSTART:20231029T020000
TZOFFSETFROM:+0200
TZOFFSETTO:+0100
TZNAME:CET
END:STANDARD
END:VTIMEZONE
END:VCALENDAR