BEGIN:VCALENDAR
VERSION:2.0
PRODID:-//wp-events-plugin.com//7.2.3.1//EN
TZID:Europe/Paris
X-WR-TIMEZONE:Europe/Paris
BEGIN:VEVENT
UID:276@seniorsdugolfdurochat.fr
DTSTART;TZID=Europe/Paris:20230803T090000
DTEND;TZID=Europe/Paris:20230803T170000
DTSTAMP:20230707T145333Z
URL:https://seniorsdugolfdurochat.fr/rencontres-et-competitions/matchplay-
 2023-de-la-section-seniors/
SUMMARY:Matchplay 2023 de la section Seniors
DESCRIPTION:Un peu de compétition entre nous\n\nPremier tour du matchplay\
 n\nMODE DE CALCUL DES POINTS RENDUS EN MATCH PLAY NET\nEn individuel :\nLe
  nombre de points rendus au joueur  dont l’index est le plus élevé es
 t égal au ¾ de la différence\ndes index des 2 joueurs  arrondis à l
 ’entier supérieur et répartis sur les trous en commençant par\ncelui 
 dont le ranking (ou hip) indique qu’il est le plus difficile et en conti
 nuant par les suivants en\ndifficulté dégressive\n\nExemple : Joueur A 
  Index 31.7 arrondi à 32\n\nJoueur B index 24.3 arrondi à 24\n\nPoints r
 endu au Joueur A  32 - 24 = 8 x 3/4  = 6
CATEGORIES:Matchplay
LOCATION:Golf du Rochat\, 1305 route du Noirmont\, Les Rousses\, 39220\, Fr
 ance
GEO:46.4873771;6.077280900000005
X-APPLE-STRUCTURED-LOCATION;VALUE=URI;X-ADDRESS=1305 route du Noirmont\, Le
 s Rousses\, 39220\, France;X-APPLE-RADIUS=100;X-TITLE=Golf du Rochat:geo:4
 6.4873771,6.077280900000005
END:VEVENT
BEGIN:VTIMEZONE
TZID:Europe/Paris
X-LIC-LOCATION:Europe/Paris
BEGIN:DAYLIGHT
DTSTART:20230326T030000
TZOFFSETFROM:+0100
TZOFFSETTO:+0200
TZNAME:CEST
END:DAYLIGHT
END:VTIMEZONE
END:VCALENDAR