BEGIN:VCALENDAR
VERSION:2.0
PRODID:-//wp-events-plugin.com//7.2.3.1//EN
TZID:Europe/Paris
X-WR-TIMEZONE:Europe/Paris
BEGIN:VEVENT
UID:252@seniorsdugolfdurochat.fr
DTSTART;TZID=Europe/Paris:20230412T090000
DTEND;TZID=Europe/Paris:20230412T170000
DTSTAMP:20230319T163610Z
URL:https://seniorsdugolfdurochat.fr/rencontres-et-competitions/les-senior
 s-du-golf-de-la-manchette-nous-recoivent/
SUMMARY:Les Seniors du golf de la Manchette nous reçoivent
DESCRIPTION:\nATTENTION C'EST UN MERCREDI\nJeux à préciser\n\nGreen fee e
 t repas sont à payer au club\n\nTenue pour les jeux Polos bleu-ciel\n\n&n
 bsp\;
CATEGORIES:Echange inter-sections
LOCATION:Golf de la Manchette\, 396\, promenade de la Manchette\, Prévessi
 n-Moëns\, 01280\, France
GEO:46.2743366;6.066628300000048
X-APPLE-STRUCTURED-LOCATION;VALUE=URI;X-ADDRESS=396\, promenade de la Manch
 ette\, Prévessin-Moëns\, 01280\, France;X-APPLE-RADIUS=100;X-TITLE=Golf 
 de la Manchette:geo:46.2743366,6.066628300000048
END:VEVENT
BEGIN:VTIMEZONE
TZID:Europe/Paris
X-LIC-LOCATION:Europe/Paris
BEGIN:DAYLIGHT
DTSTART:20230326T030000
TZOFFSETFROM:+0100
TZOFFSETTO:+0200
TZNAME:CEST
END:DAYLIGHT
END:VTIMEZONE
END:VCALENDAR