BEGIN:VCALENDAR
VERSION:2.0
PRODID:-//wp-events-plugin.com//7.2.3.1//EN
TZID:Europe/Paris
X-WR-TIMEZONE:Europe/Paris
BEGIN:VEVENT
UID:331@seniorsdugolfdurochat.fr
DTSTART;TZID=Europe/Paris:20240724T090000
DTEND;TZID=Europe/Paris:20240724T170000
DTSTAMP:20240626T164808Z
URL:https://seniorsdugolfdurochat.fr/rencontres-et-competitions/la-traditi
 onnelle-qui-sy-frotte-sy-pique/
SUMMARY:La traditionnelle " Qui s'y frotte s'y pique"
DESCRIPTION:Informations suivront\nAttention c'est un Mercredi\n&nbsp\;\n\n
 &nbsp\;
CATEGORIES:Mixte
LOCATION:Golf du Rochat\, 1305 route du Noirmont\, Les Rousses\, 39220\, Fr
 ance
GEO:46.4873771;6.077280900000005
X-APPLE-STRUCTURED-LOCATION;VALUE=URI;X-ADDRESS=1305 route du Noirmont\, Le
 s Rousses\, 39220\, France;X-APPLE-RADIUS=100;X-TITLE=Golf du Rochat:geo:4
 6.4873771,6.077280900000005
END:VEVENT
BEGIN:VTIMEZONE
TZID:Europe/Paris
X-LIC-LOCATION:Europe/Paris
BEGIN:DAYLIGHT
DTSTART:20240331T030000
TZOFFSETFROM:+0100
TZOFFSETTO:+0200
TZNAME:CEST
END:DAYLIGHT
END:VTIMEZONE
END:VCALENDAR