BEGIN:VCALENDAR
VERSION:2.0
PRODID:-//wp-events-plugin.com//7.2.3.1//EN
TZID:Europe/Paris
X-WR-TIMEZONE:Europe/Paris
BEGIN:VEVENT
UID:364@seniorsdugolfdurochat.fr
DTSTART;TZID=Europe/Paris:20250513T090000
DTEND;TZID=Europe/Paris:20250513T170000
DTSTAMP:20250418T144121Z
URL:https://seniorsdugolfdurochat.fr/rencontres-et-competitions/gsfc-au-go
 lf-du-val-de-sorne/
SUMMARY:GSFC au golf du Val de Sorne
DESCRIPTION:\n\nCompetition GFSC\n\nReservation au Golf du Rochat
CATEGORIES:GFSC
LOCATION:Golf du Val de Sorne\, Moulin des Cuchots\, Vernantois\, 39570\, F
 rance
GEO:46.64;5.569999999999936
X-APPLE-STRUCTURED-LOCATION;VALUE=URI;X-ADDRESS=Moulin des Cuchots\, Vernan
 tois\, 39570\, France;X-APPLE-RADIUS=100;X-TITLE=Golf du Val de Sorne:geo:
 46.64,5.569999999999936
END:VEVENT
BEGIN:VTIMEZONE
TZID:Europe/Paris
X-LIC-LOCATION:Europe/Paris
BEGIN:DAYLIGHT
DTSTART:20250330T030000
TZOFFSETFROM:+0100
TZOFFSETTO:+0200
TZNAME:CEST
END:DAYLIGHT
END:VTIMEZONE
END:VCALENDAR