BEGIN:VCALENDAR
VERSION:2.0
PRODID:-//wp-events-plugin.com//7.2.3.1//EN
TZID:Europe/Paris
X-WR-TIMEZONE:Europe/Paris
BEGIN:VEVENT
UID:414@seniorsdugolfdurochat.fr
DTSTART;TZID=Europe/Paris:20260505T080000
DTEND;TZID=Europe/Paris:20260505T170000
DTSTAMP:20260421T142205Z
URL:https://seniorsdugolfdurochat.fr/rencontres-et-competitions/gsfc-au-go
 lf-des-4-saisons-2/
SUMMARY:GSFC au golf des 4 Saisons
DESCRIPTION:\n\n1 ère compétition GSFC\n\n&nbsp\;
CATEGORIES:GFSC
LOCATION:Golf des 4 Saisons\, Chemin de Malaval\, Crotenay\, 39300\, France
GEO:46.756904;5.807553999999982
X-APPLE-STRUCTURED-LOCATION;VALUE=URI;X-ADDRESS=Chemin de Malaval\, Crotena
 y\, 39300\, France;X-APPLE-RADIUS=100;X-TITLE=Golf des 4 Saisons:geo:46.75
 6904,5.807553999999982
END:VEVENT
BEGIN:VTIMEZONE
TZID:Europe/Paris
X-LIC-LOCATION:Europe/Paris
BEGIN:DAYLIGHT
DTSTART:20260329T030000
TZOFFSETFROM:+0100
TZOFFSETTO:+0200
TZNAME:CEST
END:DAYLIGHT
END:VTIMEZONE
END:VCALENDAR