BEGIN:VCALENDAR
VERSION:2.0
PRODID:-//wp-events-plugin.com//7.2.3.1//EN
TZID:Europe/Paris
X-WR-TIMEZONE:Europe/Paris
BEGIN:VEVENT
UID:319@seniorsdugolfdurochat.fr
DTSTART;TZID=Europe/Paris:20240604T090000
DTEND;TZID=Europe/Paris:20240604T170000
DTSTAMP:20240524T151810Z
URL:https://seniorsdugolfdurochat.fr/rencontres-et-competitions/gfsc-val-d
 amour/
SUMMARY:GFSC Val d'amour
DESCRIPTION: au golf du Val D'Amour
CATEGORIES:GFSC
LOCATION:Golf du Val d'Amour\, Chemin du Golf\, Parcey\, 39100\, France
GEO:47.01762;5.460689000000002
X-APPLE-STRUCTURED-LOCATION;VALUE=URI;X-ADDRESS=Chemin du Golf\, Parcey\, 3
 9100\, France;X-APPLE-RADIUS=100;X-TITLE=Golf du Val d'Amour:geo:47.01762,
 5.460689000000002
END:VEVENT
BEGIN:VTIMEZONE
TZID:Europe/Paris
X-LIC-LOCATION:Europe/Paris
BEGIN:DAYLIGHT
DTSTART:20240331T030000
TZOFFSETFROM:+0100
TZOFFSETTO:+0200
TZNAME:CEST
END:DAYLIGHT
END:VTIMEZONE
END:VCALENDAR