BEGIN:VCALENDAR
VERSION:2.0
PRODID:-//wp-events-plugin.com//7.2.3.1//EN
TZID:Europe/Paris
X-WR-TIMEZONE:Europe/Paris
BEGIN:VEVENT
UID:152@seniorsdugolfdurochat.fr
DTSTART;TZID=Europe/Paris:20210401T091500
DTEND;TZID=Europe/Paris:20210401T160000
DTSTAMP:20210312T143337Z
URL:https://seniorsdugolfdurochat.fr/rencontres-et-competitions/entraineme
 nt-au-golf-de-la-manchette-8/
SUMMARY:Entrainement au Golf de la Manchette
DESCRIPTION:Restrictions inconnues (covid\, 30 km\, Météo etc ) à suivre
CATEGORIES:Entraînement
LOCATION:Golf de la Manchette\, 396\, promenade de la Manchette\, Prévessi
 n-Moëns\, 01280\, France
GEO:46.2743366;6.066628300000048
X-APPLE-STRUCTURED-LOCATION;VALUE=URI;X-ADDRESS=396\, promenade de la Manch
 ette\, Prévessin-Moëns\, 01280\, France;X-APPLE-RADIUS=100;X-TITLE=Golf 
 de la Manchette:geo:46.2743366,6.066628300000048
END:VEVENT
BEGIN:VTIMEZONE
TZID:Europe/Paris
X-LIC-LOCATION:Europe/Paris
BEGIN:DAYLIGHT
DTSTART:20210328T030000
TZOFFSETFROM:+0100
TZOFFSETTO:+0200
TZNAME:CEST
END:DAYLIGHT
END:VTIMEZONE
END:VCALENDAR