BEGIN:VCALENDAR
VERSION:2.0
PRODID:-//wp-events-plugin.com//7.2.3.1//EN
TZID:Europe/Paris
X-WR-TIMEZONE:Europe/Paris
BEGIN:VEVENT
UID:149@seniorsdugolfdurochat.fr
DTSTART;TZID=Europe/Paris:20210311T093000
DTEND;TZID=Europe/Paris:20210311T160000
DTSTAMP:20210301T134521Z
URL:https://seniorsdugolfdurochat.fr/rencontres-et-competitions/entraineme
 nt-au-golf-de-la-manchette-5/
SUMMARY:Entrainement au golf de la Manchette
DESCRIPTION:Si la météo nous est favorable\n\nSi la Covid ne fait pas des
  siennes\n\nSi vous êtes à moins de 30 kilomètres à vol d'oiseau de la
  Manchette\n\nBref si on a ces 3 éléments on se retrouve jeudi 11 mars 
 à 09h30
LOCATION:Golf de la Manchette\, 396\, promenade de la Manchette\, Prévessi
 n-Moëns\, 01280\, France
GEO:46.2743366;6.066628300000048
X-APPLE-STRUCTURED-LOCATION;VALUE=URI;X-ADDRESS=396\, promenade de la Manch
 ette\, Prévessin-Moëns\, 01280\, France;X-APPLE-RADIUS=100;X-TITLE=Golf 
 de la Manchette:geo:46.2743366,6.066628300000048
END:VEVENT
BEGIN:VTIMEZONE
TZID:Europe/Paris
X-LIC-LOCATION:Europe/Paris
BEGIN:STANDARD
DTSTART:20201025T020000
TZOFFSETFROM:+0200
TZOFFSETTO:+0100
TZNAME:CET
END:STANDARD
END:VTIMEZONE
END:VCALENDAR