BEGIN:VCALENDAR
VERSION:2.0
PRODID:-//wp-events-plugin.com//7.2.3.1//EN
TZID:Europe/Paris
X-WR-TIMEZONE:Europe/Paris
BEGIN:VEVENT
UID:135@seniorsdugolfdurochat.fr
DTSTART;TZID=Europe/Paris:20200826T090000
DTEND;TZID=Europe/Paris:20200826T170000
DTSTAMP:20200810T125430Z
URL:https://seniorsdugolfdurochat.fr/rencontres-et-competitions/deuxieme-o
 pen-pour-nina/
SUMMARY:Deuxième Open pour NINA
DESCRIPTION:Compete Un souffle pour Nina\n\nCompétition mixte organisée p
 ar les Dames du golf du Rochat en faveur de l'Association "Un souffle pour
  Nina "\n\n                                          
       Un Souffle pour Nina  mercredi 26 août\n \n\nNina est une pet
 ite fille du Bois d'Amont atteinte de la mucoviscidose et qui se bat pour 
 vivre comme toutes les petites filles de son âge.\nL'association "Un souf
 fle pour Nina" a pour but de sensibiliser le public sur la mucoviscidose e
 t le don d'organe et d'aider à la recherche médicale.\n\n \nCette comp
 étition est ouverte à tous.\nFormule de jeu: Stableford.\n\nLe coût de 
 participation à la compétition est de 50 € ( dont 20 € reversé enti
 èrement à l'association)\nIl y aura un turn.\nLe golf du Rochat offrira 
 un verre de l'amitié lors de la remise des prix.\n\nMerci de vous inscrir
 e avant le mardi 24 août au secrétariat du golf du Rochat: Tel:00 33 3 8
 4 60 06 25\n&nbsp\;
CATEGORIES:Mixte,Partie amicale
LOCATION:Golf du Rochat\, 1305 route du Noirmont\, Les Rousses\, 39220\, Fr
 ance
GEO:46.4873771;6.077280900000005
X-APPLE-STRUCTURED-LOCATION;VALUE=URI;X-ADDRESS=1305 route du Noirmont\, Le
 s Rousses\, 39220\, France;X-APPLE-RADIUS=100;X-TITLE=Golf du Rochat:geo:4
 6.4873771,6.077280900000005
END:VEVENT
BEGIN:VTIMEZONE
TZID:Europe/Paris
X-LIC-LOCATION:Europe/Paris
BEGIN:DAYLIGHT
DTSTART:20200329T030000
TZOFFSETFROM:+0100
TZOFFSETTO:+0200
TZNAME:CEST
END:DAYLIGHT
END:VTIMEZONE
END:VCALENDAR