BEGIN:VCALENDAR
VERSION:2.0
PRODID:-//wp-events-plugin.com//7.2.3.1//EN
TZID:Europe/Paris
X-WR-TIMEZONE:Europe/Paris
BEGIN:VEVENT
UID:258@seniorsdugolfdurochat.fr
DTSTART;TZID=Europe/Paris:20230511T090000
DTEND;TZID=Europe/Paris:20230511T170000
DTSTAMP:20230506T154434Z
URL:https://seniorsdugolfdurochat.fr/rencontres-et-competitions/deuxieme-c
 ompetition-de-classement-et-ringer-scrore/
SUMMARY:Deuxième compétition de Classement et Ringer scrore
DESCRIPTION:On marque tous les scores .\n\nSi vous voulez déjeuner après 
 le jeu merci de l'indiquer dans les commentaires afin que l'on puisse rés
 erver des tables et être ensemble pour dejeuner\n\nMerci
CATEGORIES:Classement
LOCATION:Golf du Rochat\, 1305 route du Noirmont\, Les Rousses\, 39220\, Fr
 ance
GEO:46.4873771;6.077280900000005
X-APPLE-STRUCTURED-LOCATION;VALUE=URI;X-ADDRESS=1305 route du Noirmont\, Le
 s Rousses\, 39220\, France;X-APPLE-RADIUS=100;X-TITLE=Golf du Rochat:geo:4
 6.4873771,6.077280900000005
END:VEVENT
BEGIN:VTIMEZONE
TZID:Europe/Paris
X-LIC-LOCATION:Europe/Paris
BEGIN:DAYLIGHT
DTSTART:20230326T030000
TZOFFSETFROM:+0100
TZOFFSETTO:+0200
TZNAME:CEST
END:DAYLIGHT
END:VTIMEZONE
END:VCALENDAR