BEGIN:VCALENDAR
VERSION:2.0
PRODID:-//wp-events-plugin.com//7.2.3.1//EN
TZID:Europe/Paris
X-WR-TIMEZONE:Europe/Paris
BEGIN:VEVENT
UID:278@seniorsdugolfdurochat.fr
DTSTART;TZID=Europe/Paris:20230817T090000
DTEND;TZID=Europe/Paris:20230817T170000
DTSTAMP:20230815T074054Z
URL:https://seniorsdugolfdurochat.fr/rencontres-et-competitions/deplacemen
 t-au-golf-de-payerne/
SUMMARY:Déplacement au Golf de Payerne
DESCRIPTION:Nous sommes invités par les seniors du golf de Payerne\n\nPart
 icipation de 40 €\n\nJeu Stableford
CATEGORIES:Echange inter-sections
LOCATION:Golf de Payerne\, Domaine des Invuardes 1\, Payerne\, 1230\, Suiss
 e
GEO:46.8164056;6.950209800000039
X-APPLE-STRUCTURED-LOCATION;VALUE=URI;X-ADDRESS=Domaine des Invuardes 1\, P
 ayerne\, 1230\, Suisse;X-APPLE-RADIUS=100;X-TITLE=Golf de Payerne:geo:46.8
 164056,6.950209800000039
END:VEVENT
BEGIN:VTIMEZONE
TZID:Europe/Paris
X-LIC-LOCATION:Europe/Paris
BEGIN:DAYLIGHT
DTSTART:20230326T030000
TZOFFSETFROM:+0100
TZOFFSETTO:+0200
TZNAME:CEST
END:DAYLIGHT
END:VTIMEZONE
END:VCALENDAR