BEGIN:VCALENDAR
VERSION:2.0
PRODID:-//wp-events-plugin.com//7.2.3.1//EN
TZID:Europe/Paris
X-WR-TIMEZONE:Europe/Paris
BEGIN:VEVENT
UID:353@seniorsdugolfdurochat.fr
DTSTART;TZID=Europe/Paris:20250313T113000
DTEND;TZID=Europe/Paris:20250313T153000
DTSTAMP:20250213T080604Z
URL:https://seniorsdugolfdurochat.fr/rencontres-et-competitions/dejeuner-a
 u-restaurant-du-golf-du-rochat-2/
SUMMARY:Déjeuner au restaurant du golf du Rochat
DESCRIPTION:
CATEGORIES:Repas
LOCATION:Golf du Rochat\, 1305 route du Noirmont\, Les Rousses\, 39220\, Fr
 ance
GEO:46.4873771;6.077280900000005
X-APPLE-STRUCTURED-LOCATION;VALUE=URI;X-ADDRESS=1305 route du Noirmont\, Le
 s Rousses\, 39220\, France;X-APPLE-RADIUS=100;X-TITLE=Golf du Rochat:geo:4
 6.4873771,6.077280900000005
END:VEVENT
BEGIN:VTIMEZONE
TZID:Europe/Paris
X-LIC-LOCATION:Europe/Paris
BEGIN:STANDARD
DTSTART:20241027T020000
TZOFFSETFROM:+0200
TZOFFSETTO:+0100
TZNAME:CET
END:STANDARD
END:VTIMEZONE
END:VCALENDAR