BEGIN:VCALENDAR
VERSION:2.0
PRODID:-//wp-events-plugin.com//7.2.3.1//EN
TZID:Europe/Paris
X-WR-TIMEZONE:Europe/Paris
BEGIN:VEVENT
UID:320@seniorsdugolfdurochat.fr
DTSTART;TZID=Europe/Paris:20240606T090000
DTEND;TZID=Europe/Paris:20240606T170000
DTSTAMP:20240524T152441Z
URL:https://seniorsdugolfdurochat.fr/rencontres-et-competitions/championna
 t-de-france-scolaire/
SUMMARY:Championnat de France scolaire
DESCRIPTION:Il faudrait quelques volontaires pour aider à la compétition 
 ( informations suivront par le président  de l'AS du golf du Rochat)
LOCATION:Golf du Rochat\, 1305 route du Noirmont\, Les Rousses\, 39220\, Fr
 ance
GEO:46.4873771;6.077280900000005
X-APPLE-STRUCTURED-LOCATION;VALUE=URI;X-ADDRESS=1305 route du Noirmont\, Le
 s Rousses\, 39220\, France;X-APPLE-RADIUS=100;X-TITLE=Golf du Rochat:geo:4
 6.4873771,6.077280900000005
END:VEVENT
BEGIN:VTIMEZONE
TZID:Europe/Paris
X-LIC-LOCATION:Europe/Paris
BEGIN:DAYLIGHT
DTSTART:20240331T030000
TZOFFSETFROM:+0100
TZOFFSETTO:+0200
TZNAME:CEST
END:DAYLIGHT
END:VTIMEZONE
END:VCALENDAR